BEGIN:VCALENDAR
VERSION:2.0
PRODID:-//Telkwa Elementary - ECPv6.15.20//NONSGML v1.0//EN
CALSCALE:GREGORIAN
METHOD:PUBLISH
X-WR-CALNAME:Telkwa Elementary
X-ORIGINAL-URL:https://tel.sd54.bc.ca
X-WR-CALDESC:Events for Telkwa Elementary
REFRESH-INTERVAL;VALUE=DURATION:PT1H
X-Robots-Tag:noindex
X-PUBLISHED-TTL:PT1H
BEGIN:VTIMEZONE
TZID:America/Vancouver
BEGIN:DAYLIGHT
TZOFFSETFROM:-0800
TZOFFSETTO:-0700
TZNAME:PDT
DTSTART:20230312T100000
END:DAYLIGHT
BEGIN:STANDARD
TZOFFSETFROM:-0700
TZOFFSETTO:-0800
TZNAME:PST
DTSTART:20231105T090000
END:STANDARD
BEGIN:DAYLIGHT
TZOFFSETFROM:-0800
TZOFFSETTO:-0700
TZNAME:PDT
DTSTART:20240310T100000
END:DAYLIGHT
BEGIN:STANDARD
TZOFFSETFROM:-0700
TZOFFSETTO:-0800
TZNAME:PST
DTSTART:20241103T090000
END:STANDARD
BEGIN:DAYLIGHT
TZOFFSETFROM:-0800
TZOFFSETTO:-0700
TZNAME:PDT
DTSTART:20250309T100000
END:DAYLIGHT
BEGIN:STANDARD
TZOFFSETFROM:-0700
TZOFFSETTO:-0800
TZNAME:PST
DTSTART:20251102T090000
END:STANDARD
BEGIN:DAYLIGHT
TZOFFSETFROM:-0800
TZOFFSETTO:-0700
TZNAME:PDT
DTSTART:20260308T100000
END:DAYLIGHT
BEGIN:STANDARD
TZOFFSETFROM:-0700
TZOFFSETTO:-0800
TZNAME:PST
DTSTART:20261101T090000
END:STANDARD
BEGIN:DAYLIGHT
TZOFFSETFROM:-0800
TZOFFSETTO:-0700
TZNAME:PDT
DTSTART:20270314T100000
END:DAYLIGHT
BEGIN:STANDARD
TZOFFSETFROM:-0700
TZOFFSETTO:-0800
TZNAME:PST
DTSTART:20271107T090000
END:STANDARD
END:VTIMEZONE
BEGIN:VEVENT
DTSTART;VALUE=DATE:20260323
DTEND;VALUE=DATE:20260407
DTSTAMP:20260424T115633
CREATED:20260106T212110Z
LAST-MODIFIED:20260322T002147Z
UID:10000125-1774224000-1775519999@tel.sd54.bc.ca
SUMMARY:Spring Break
DESCRIPTION:SD54 schools closed for Spring Break \n 
URL:https://tel.sd54.bc.ca/event/spring-break-3/
CATEGORIES:School Holidays
END:VEVENT
BEGIN:VEVENT
DTSTART;VALUE=DATE:20260216
DTEND;VALUE=DATE:20260217
DTSTAMP:20260424T115633
CREATED:20251118T133558Z
LAST-MODIFIED:20260216T225057Z
UID:10000122-1771200000-1771286399@tel.sd54.bc.ca
SUMMARY:Family Day
DESCRIPTION:All SD54 schools closed in observance of Family Day
URL:https://tel.sd54.bc.ca/event/family-day-2/
CATEGORIES:School Holidays
END:VEVENT
BEGIN:VEVENT
DTSTART;VALUE=DATE:20251222
DTEND;VALUE=DATE:20260105
DTSTAMP:20260424T115633
CREATED:20251006T115300Z
LAST-MODIFIED:20251222T205101Z
UID:10000118-1766361600-1767571199@tel.sd54.bc.ca
SUMMARY:Christmas Vacation
DESCRIPTION:Christmas Vacation \nDecember 22\, 2025 – January 2\, 2026
URL:https://tel.sd54.bc.ca/event/christmas-vacation-2/
CATEGORIES:School Holidays
END:VEVENT
BEGIN:VEVENT
DTSTART;VALUE=DATE:20251111
DTEND;VALUE=DATE:20251112
DTSTAMP:20260424T115633
CREATED:20250813T213618Z
LAST-MODIFIED:20251111T132057Z
UID:10000115-1762819200-1762905599@tel.sd54.bc.ca
SUMMARY:Remembrance Day
DESCRIPTION:All SD54 schools closed in observance of Remembrance Day
URL:https://tel.sd54.bc.ca/event/remembrance-day-2/
CATEGORIES:School Holidays
END:VEVENT
BEGIN:VEVENT
DTSTART;VALUE=DATE:20251013
DTEND;VALUE=DATE:20251014
DTSTAMP:20260424T115633
CREATED:20250715T152145Z
LAST-MODIFIED:20251013T120657Z
UID:10000108-1760313600-1760399999@tel.sd54.bc.ca
SUMMARY:Thanksgiving Day
DESCRIPTION:All schools closed
URL:https://tel.sd54.bc.ca/event/thanksgiving-day-2/
CATEGORIES:School Holidays
END:VEVENT
BEGIN:VEVENT
DTSTART;VALUE=DATE:20250930
DTEND;VALUE=DATE:20251001
DTSTAMP:20260424T115633
CREATED:20250711T152112Z
LAST-MODIFIED:20250930T235111Z
UID:10000106-1759190400-1759276799@tel.sd54.bc.ca
SUMMARY:National Day for Truth & Reconciliation
DESCRIPTION:All SD54 schools closed in observance of the National Day for Truth & Reconciliation
URL:https://tel.sd54.bc.ca/event/national-day-for-truth-reconciliation-2/
CATEGORIES:Events,School Holidays
END:VEVENT
BEGIN:VEVENT
DTSTART;VALUE=DATE:20250930
DTEND;VALUE=DATE:20251001
DTSTAMP:20260424T115633
CREATED:20250711T152112Z
LAST-MODIFIED:20250711T152112Z
UID:10000107-1759190400-1759276799@tel.sd54.bc.ca
SUMMARY:National Day for Truth & Reconciliation
DESCRIPTION:All SD54 schools closed in observance of the National Day for Truth & Reconciliation
URL:https://tel.sd54.bc.ca/event/national-day-for-truth-reconciliation-3/
CATEGORIES:Events,School Holidays
END:VEVENT
BEGIN:VEVENT
DTSTART;VALUE=DATE:20250519
DTEND;VALUE=DATE:20250520
DTSTAMP:20260424T115633
CREATED:20250218T193546Z
LAST-MODIFIED:20250519T120752Z
UID:10000087-1747612800-1747699199@tel.sd54.bc.ca
SUMMARY:Victoria Day
DESCRIPTION:SD54 schools closed in observance of Victoria Day
URL:https://tel.sd54.bc.ca/event/victoria-day-3/
CATEGORIES:School Holidays
END:VEVENT
BEGIN:VEVENT
DTSTART;VALUE=DATE:20250418
DTEND;VALUE=DATE:20250419
DTSTAMP:20260424T115633
CREATED:20250118T183415Z
LAST-MODIFIED:20250418T222552Z
UID:10000079-1744934400-1745020799@tel.sd54.bc.ca
SUMMARY:Good Friday
DESCRIPTION:SD54 schools closed in observance of Good Friday
URL:https://tel.sd54.bc.ca/event/good-friday/
CATEGORIES:School Holidays
END:VEVENT
BEGIN:VEVENT
DTSTART;VALUE=DATE:20250317
DTEND;VALUE=DATE:20250329
DTSTAMP:20260424T115633
CREATED:20241228T163933Z
LAST-MODIFIED:20250317T201918Z
UID:10000066-1742169600-1743206399@tel.sd54.bc.ca
SUMMARY:Spring Break
DESCRIPTION:SD54 schools closed for Spring Break \n 
URL:https://tel.sd54.bc.ca/event/spring-break-2/
CATEGORIES:School Holidays
END:VEVENT
BEGIN:VEVENT
DTSTART;VALUE=DATE:20250217
DTEND;VALUE=DATE:20250218
DTSTAMP:20260424T115633
CREATED:20241119T140400Z
LAST-MODIFIED:20250217T193549Z
UID:10000058-1739750400-1739836799@tel.sd54.bc.ca
SUMMARY:Family Day
DESCRIPTION:SD54 schools closed in observance of Family Day
URL:https://tel.sd54.bc.ca/event/family-day/
CATEGORIES:School Holidays
END:VEVENT
BEGIN:VEVENT
DTSTART;VALUE=DATE:20241223
DTEND;VALUE=DATE:20250104
DTSTAMP:20260424T115633
CREATED:20241005T000401Z
LAST-MODIFIED:20241223T155812Z
UID:10000041-1734912000-1735948799@tel.sd54.bc.ca
SUMMARY:Christmas Vacation
DESCRIPTION:Christmas Vacation \nDecember 23\, 2024 – January 3\, 2025
URL:https://tel.sd54.bc.ca/event/christmas-vacation/
CATEGORIES:School Holidays
END:VEVENT
BEGIN:VEVENT
DTSTART;VALUE=DATE:20241111
DTEND;VALUE=DATE:20241112
DTSTAMP:20260424T115633
CREATED:20240813T115349Z
LAST-MODIFIED:20241111T140415Z
UID:10000035-1731283200-1731369599@tel.sd54.bc.ca
SUMMARY:Remembrance Day
DESCRIPTION:All SD54 schools closed in observance of Remembrance Day
URL:https://tel.sd54.bc.ca/event/remembrance-day/
CATEGORIES:School Holidays
END:VEVENT
BEGIN:VEVENT
DTSTART;VALUE=DATE:20241014
DTEND;VALUE=DATE:20241015
DTSTAMP:20260424T115633
CREATED:20240716T135009Z
LAST-MODIFIED:20241014T120447Z
UID:10000031-1728864000-1728950399@tel.sd54.bc.ca
SUMMARY:Thanksgiving Day
DESCRIPTION:Thanksgiving Day \nAll SD54 schools are closed
URL:https://tel.sd54.bc.ca/event/thanksgiving-day/
CATEGORIES:School Holidays
END:VEVENT
BEGIN:VEVENT
DTSTART;VALUE=DATE:20240930
DTEND;VALUE=DATE:20241001
DTSTAMP:20260424T115633
CREATED:20240702T120429Z
LAST-MODIFIED:20240920T121941Z
UID:10000030-1727654400-1727740799@tel.sd54.bc.ca
SUMMARY:National Day for Truth & Reconciliation
DESCRIPTION:National Day for Truth and Reconciliation
URL:https://tel.sd54.bc.ca/event/national-day-for-truth-reconciliation/
CATEGORIES:School Holidays
END:VEVENT
BEGIN:VEVENT
DTSTART;VALUE=DATE:20240621
DTEND;VALUE=DATE:20240622
DTSTAMP:20260424T115633
CREATED:20240511T195258Z
LAST-MODIFIED:20240621T130450Z
UID:10000024-1718928000-1719014399@tel.sd54.bc.ca
SUMMARY:National Indigenous Peoples Day
DESCRIPTION:
URL:https://tel.sd54.bc.ca/event/national-indigenous-peoples-day-2/
CATEGORIES:School Holidays
END:VEVENT
BEGIN:VEVENT
DTSTART;VALUE=DATE:20240520
DTEND;VALUE=DATE:20240521
DTSTAMP:20260424T115633
CREATED:20240509T203239Z
LAST-MODIFIED:20240520T225222Z
UID:10000022-1716163200-1716249599@tel.sd54.bc.ca
SUMMARY:Victoria Day
DESCRIPTION:Schools closed in observance of Victoria Day.
URL:https://tel.sd54.bc.ca/event/victoria-day-2/
CATEGORIES:School Holidays
END:VEVENT
END:VCALENDAR