BEGIN:VCALENDAR
VERSION:2.0
PRODID:-//Telkwa Elementary - ECPv6.15.20//NONSGML v1.0//EN
CALSCALE:GREGORIAN
METHOD:PUBLISH
X-ORIGINAL-URL:https://tel.sd54.bc.ca
X-WR-CALDESC:Events for Telkwa Elementary
REFRESH-INTERVAL;VALUE=DURATION:PT1H
X-Robots-Tag:noindex
X-PUBLISHED-TTL:PT1H
BEGIN:VTIMEZONE
TZID:America/Vancouver
BEGIN:DAYLIGHT
TZOFFSETFROM:-0800
TZOFFSETTO:-0700
TZNAME:PDT
DTSTART:20230312T100000
END:DAYLIGHT
BEGIN:STANDARD
TZOFFSETFROM:-0700
TZOFFSETTO:-0800
TZNAME:PST
DTSTART:20231105T090000
END:STANDARD
BEGIN:DAYLIGHT
TZOFFSETFROM:-0800
TZOFFSETTO:-0700
TZNAME:PDT
DTSTART:20240310T100000
END:DAYLIGHT
BEGIN:STANDARD
TZOFFSETFROM:-0700
TZOFFSETTO:-0800
TZNAME:PST
DTSTART:20241103T090000
END:STANDARD
BEGIN:DAYLIGHT
TZOFFSETFROM:-0800
TZOFFSETTO:-0700
TZNAME:PDT
DTSTART:20250309T100000
END:DAYLIGHT
BEGIN:STANDARD
TZOFFSETFROM:-0700
TZOFFSETTO:-0800
TZNAME:PST
DTSTART:20251102T090000
END:STANDARD
END:VTIMEZONE
BEGIN:VEVENT
DTSTART;TZID=America/Vancouver:20241022T090000
DTEND;TZID=America/Vancouver:20241022T100000
DTSTAMP:20260421T055503
CREATED:20241007T175219Z
LAST-MODIFIED:20241007T175219Z
UID:10000044-1729587600-1729591200@tel.sd54.bc.ca
SUMMARY:Grade 6 Immunizations
DESCRIPTION:
URL:https://tel.sd54.bc.ca/event/grade-6-immunizations/
END:VEVENT
BEGIN:VEVENT
DTSTART;TZID=America/Vancouver:20241022T110000
DTEND;TZID=America/Vancouver:20241022T120000
DTSTAMP:20260421T055503
CREATED:20241007T175341Z
LAST-MODIFIED:20241007T175341Z
UID:10000045-1729594800-1729598400@tel.sd54.bc.ca
SUMMARY:Picture Retakes with Berg Media
DESCRIPTION:
URL:https://tel.sd54.bc.ca/event/picture-retakes-with-berg-media/
END:VEVENT
BEGIN:VEVENT
DTSTART;TZID=America/Vancouver:20241022T190000
DTEND;TZID=America/Vancouver:20241022T210000
DTSTAMP:20260421T055503
CREATED:20240724T114930Z
LAST-MODIFIED:20241022T121942Z
UID:10000032-1729623600-1729630800@tel.sd54.bc.ca
SUMMARY:School Board Meeting
DESCRIPTION:Board Meeting – Agendas \n\n \n 
URL:https://tel.sd54.bc.ca/event/school-board-meeting-3/
LOCATION:School Board Office\, 1235 Montreal Street\, PO Box 758\, Smithers\, BC\, V0J 2N0\, Canada
CATEGORIES:Board Meetings
END:VEVENT
BEGIN:VEVENT
DTSTART;VALUE=DATE:20241023
DTEND;VALUE=DATE:20241025
DTSTAMP:20260421T055503
CREATED:20240726T115542Z
LAST-MODIFIED:20241023T122055Z
UID:10000033-1729641600-1729814399@tel.sd54.bc.ca
SUMMARY:Parent/Teacher Interviews – 1 Hour Early Dismissal
DESCRIPTION:Parent/Teacher Interviews \n1 hour early dismissal
URL:https://tel.sd54.bc.ca/event/parent-teacher-interviews-1-hour-early-dismissal/
CATEGORIES:Parent Teacher Interviews
END:VEVENT
BEGIN:VEVENT
DTSTART;VALUE=DATE:20241025
DTEND;VALUE=DATE:20241026
DTSTAMP:20260421T055503
CREATED:20240728T050159Z
LAST-MODIFIED:20241025T124513Z
UID:10000034-1729814400-1729900799@tel.sd54.bc.ca
SUMMARY:Professional Development Day
DESCRIPTION:Professional Development Day \nAll SD54 schools are closed
URL:https://tel.sd54.bc.ca/event/professional-development-day-6/
CATEGORIES:ProD
END:VEVENT
END:VCALENDAR